BEGIN:VCALENDAR
VERSION:2.0
PRODID:-//SCBO - Swiss CB Organisation - ECPv6.15.20//NONSGML v1.0//EN
CALSCALE:GREGORIAN
METHOD:PUBLISH
X-WR-CALNAME:SCBO - Swiss CB Organisation
X-ORIGINAL-URL:https://www.hb9scbo.org
X-WR-CALDESC:Veranstaltungen für SCBO - Swiss CB Organisation
REFRESH-INTERVAL;VALUE=DURATION:PT1H
X-Robots-Tag:noindex
X-PUBLISHED-TTL:PT1H
BEGIN:VTIMEZONE
TZID:Europe/Zurich
BEGIN:DAYLIGHT
TZOFFSETFROM:+0100
TZOFFSETTO:+0200
TZNAME:CEST
DTSTART:20250330T010000
END:DAYLIGHT
BEGIN:STANDARD
TZOFFSETFROM:+0200
TZOFFSETTO:+0100
TZNAME:CET
DTSTART:20251026T010000
END:STANDARD
BEGIN:DAYLIGHT
TZOFFSETFROM:+0100
TZOFFSETTO:+0200
TZNAME:CEST
DTSTART:20260329T010000
END:DAYLIGHT
BEGIN:STANDARD
TZOFFSETFROM:+0200
TZOFFSETTO:+0100
TZNAME:CET
DTSTART:20261025T010000
END:STANDARD
BEGIN:DAYLIGHT
TZOFFSETFROM:+0100
TZOFFSETTO:+0200
TZNAME:CEST
DTSTART:20270328T010000
END:DAYLIGHT
BEGIN:STANDARD
TZOFFSETFROM:+0200
TZOFFSETTO:+0100
TZNAME:CET
DTSTART:20271031T010000
END:STANDARD
END:VTIMEZONE
BEGIN:VEVENT
DTSTART;TZID=Europe/Zurich:20260429T190000
DTEND;TZID=Europe/Zurich:20260429T210000
DTSTAMP:20260424T115435
CREATED:20260324T200705Z
LAST-MODIFIED:20260324T200800Z
UID:186564-1777489200-1777496400@www.hb9scbo.org
SUMMARY:Funkverein Iddaburg - Pegasus.75
DESCRIPTION:Gewünschtes Datum: 29.4.2026\nGewünschtes Zeitfenster: 19:00-21:00\nName: Thommen\nVorname: Daniel\nRufzeichen: HB9IND\nOrganisator\, Verein (Rufzeichen): Funkverein Iddaburg – Pegasus.75\nE-Mail: info@hb9id.ch\nNachricht: Punktefunken als Übung für unsere HB3/HB9 Kursteilnehmer\nStandort: Vereinsshack HB9ID auf der Iddaburg. Locator JN47LJ
URL:https://www.hb9scbo.org/event/funkverein-iddaburg-pegasus-75-2/
ATTACH;FMTTYPE=image/png:https://www.hb9scbo.org/wp-content/uploads/2025/07/Punktefunken_Event_AI.png
END:VEVENT
BEGIN:VEVENT
DTSTART;TZID=Europe/Zurich:20260523T130000
DTEND;TZID=Europe/Zurich:20260523T150000
DTSTAMP:20260424T115435
CREATED:20260324T200936Z
LAST-MODIFIED:20260324T200936Z
UID:186566-1779541200-1779548400@www.hb9scbo.org
SUMMARY:Funkverein Iddaburg - Pegasus.75
DESCRIPTION:Gewünschtes Datum: 23. Mai 2026\nGewünschtes Zeitfenster: 13:00 – 15:00\nName: Müller\nVorname: Josef\nRufzeichen: ABBA75\nOrganisator\, Verein (Rufzeichen): Funkverein Iddaburg – Pegasus.75\nE-Mail: hb9hjx@hb9id.ch\nNachricht: Punktefunken vor dem Start des Pfingstcontest um unser Setting zu testen.\nStandort: Shack Iddaburg / JN47LJ
URL:https://www.hb9scbo.org/event/funkverein-iddaburg-pegasus-75-3/
ATTACH;FMTTYPE=image/png:https://www.hb9scbo.org/wp-content/uploads/2025/07/Punktefunken_Event_AI.png
END:VEVENT
END:VCALENDAR